BEGIN:VCALENDAR
VERSION:2.0
PRODID:-//ArtePunta - ECPv6.15.17//NONSGML v1.0//EN
CALSCALE:GREGORIAN
METHOD:PUBLISH
X-ORIGINAL-URL:https://artepunta.com
X-WR-CALDESC:Eventos para ArtePunta
REFRESH-INTERVAL;VALUE=DURATION:PT1H
X-Robots-Tag:noindex
X-PUBLISHED-TTL:PT1H
BEGIN:VTIMEZONE
TZID:America/Montevideo
BEGIN:STANDARD
TZOFFSETFROM:-0300
TZOFFSETTO:-0300
TZNAME:-03
DTSTART:20250101T000000
END:STANDARD
END:VTIMEZONE
BEGIN:VEVENT
DTSTART;TZID=America/Montevideo:20260320T120000
DTEND;TZID=America/Montevideo:20260320T143000
DTSTAMP:20260420T064348
CREATED:20260311T193703Z
LAST-MODIFIED:20260311T195639Z
UID:10003409-1774008000-1774017000@artepunta.com
SUMMARY:Buenos Aires / CONTINENTE OSCURO. Feminidad y disidencia en el surrealismo argentino
DESCRIPTION:CONTINENTE OSCURO. Feminidad y disidencia en el surrealismo argentino | 20.03 – 12 hs \n¡Presentamos la primera exhibición de nuestra programación artística 2026! \n🔺Curada por Leandro Martínez Depietri\, esta muestra colectiva reúne más de 85 obras de artistas mujeres y disidencias argentinas que se han apropiado y transformado estrategias del surrealismo para interrogar la autoridad\, el deseo\, el cuerpo y lo colectivo. \n🔺Lejos de un relato cronológico o centrado en los patriarcas del surrealismo argentino\, “Continente Oscuro” invita a recorrer territorios históricamente opacados por el discurso hegemónico\, donde se explora el inconsciente\, la materialidad del cuerpo\, la domesticidad\, la violencia y el mito. \n📆 Del 20 de marzo al 2 de agosto de 2026\n📍Av. San Juan 328\, CABA \n   \n 
URL:https://artepunta.com/evento/buenos-aires-continente-oscuro-feminidad-y-disidencia-en-el-surrealismo-argentino/
LOCATION:MACBA\, Av San Juan 328\, Buenos Aires\, 1141\, Argentina
ATTACH;FMTTYPE=image/jpeg:https://artepunta.com/wp-content/uploads/2026/03/museomacba_1773092217_3849298444543853748_393735976.jpg
END:VEVENT
BEGIN:VEVENT
DTSTART;TZID=America/Montevideo:20260320T143000
DTEND;TZID=America/Montevideo:20260320T160000
DTSTAMP:20260420T064348
CREATED:20260310T155758Z
LAST-MODIFIED:20260310T155932Z
UID:10003403-1774017000-1774022400@artepunta.com
SUMMARY:Visitas guiadas PREVIA INSCRIPCIÓN - "Dark Matters: Pinus" de Fons de Muynck
DESCRIPTION:Fons De Muynck presenta Dark Matters Pinus en Uruguay\, una instalación que transforma el bosque de La Juanita en una cámara oscura viva.\n \nEntra por un portal donde la luz susurra el camino y revela el latido antiguo del bosque. Un momento para detenerse y reconectar—donde el día resguarda a la noche dormida. Reserve su visita a continuación. Abierto cada miercoles y sabado de 16:00 a 17:30hs.  \n🌳 A partir del diálogo entre luz\, sombra y paisaje\, el artista belga invita a repensar la percepción y nuestra conexión con la naturaleza\, en una experiencia inmersiva que une arte contemporáneo y conciencia ambiental. \nSin luz artificial\, las imágenes del exterior se manifiestan de forma frágil e hipnótica\, revelando la naturaleza efímera del acto de ver. \n📍Posada Ayana\, La Juanita.\n🕓 Miércoles y sábados de 16:00 a 17:30. Visitas cada media hora\, previa inscripción\n🎟️ Entrada libre con reserva previa (cupos limitados por franja horaria). \nReservá tu lugar a través del link: https://www.signupgenius.com/go/10C0F45ACA623A3FAC70-61584334-dark?useFullSite=true#/
URL:https://artepunta.com/evento/visitas-guiadas-previa-inscripcion-dark-matters-pinus-de-fons-de-muynck/
LOCATION:La Juanita\, La Juanita José Ignacio\, Uruguay
ATTACH;FMTTYPE=image/jpeg:https://artepunta.com/wp-content/uploads/2026/02/Dark-Matters-Pinus-bosque-la-Juanita-scaled-1.jpeg
END:VEVENT
BEGIN:VEVENT
DTSTART;TZID=America/Montevideo:20260320T180000
DTEND;TZID=America/Montevideo:20260320T190000
DTSTAMP:20260420T064348
CREATED:20260131T050118Z
LAST-MODIFIED:20260310T153932Z
UID:10003370-1774029600-1774033200@artepunta.com
SUMMARY:Punta del Este / Visita guiada / Ana Segovia: The Office of Inter-American Affairs presents: Uruguay
DESCRIPTION:VISITAS GUIADAS\nAna Segovia. The Office of Inter-American Affairs Presents: Uruguay\n📌Viernes y sábados\, 18:00.\nActividad gratuita. No requiere inscripción previa. \nTodas las semanas ofrecemos un programa de visitas mediadas a cargo de la curadora Camila Arbeláez. La visita propone una lectura de la práctica artística de Ana Segovia (Ciudad de México\, 1991) y del proceso de creación de esta exposición concebida especialmente para FCM\, que combina pintura\, instalación y performance. La muestra revisa críticamente cómo se construyen ciertos imaginarios en torno a la identidad nacional\, el género y la masculinidad. \nEl recorrido abarca las dos salas de la Fundación: en la Sala 1\, una serie de pinturas recientes de Ana Segovia\, y en la Sala 2\, una instalación que incluye la proyección audiovisual de la performance Gambola\, realizada para la apertura de la exposición. ¡Los esperamos! \n 
URL:https://artepunta.com/evento/visitas-mediadas-por-la-muestra-de-ana-segovia-the-office-of-inter-american-affairs-presents-uruguay/
LOCATION:Fundación Cervieri Monsuarez Jose Ignacio
ATTACH;FMTTYPE=image/jpeg:https://artepunta.com/wp-content/uploads/2026/01/fundacioncervierimonsuarez_1770137692_3824513310239294326_63851148235.jpg
END:VEVENT
BEGIN:VEVENT
DTSTART;TZID=America/Montevideo:20260320T190000
DTEND;TZID=America/Montevideo:20260320T210000
DTSTAMP:20260420T064348
CREATED:20260309T165350Z
LAST-MODIFIED:20260309T165350Z
UID:10003394-1774033200-1774040400@artepunta.com
SUMMARY:Buenos Aires / Inauguración: Continente oscuro. Feminidad y disidencia en el surrealismo argentino
DESCRIPTION:Los esperamos el viernes 20 de marzo para conocer “Continente oscuro. Feminidad y disidencia en el surrealismo argentino”\, exhibición colectiva que ocupará los cuatro pisos del museo. ¡Nos vemos!
URL:https://artepunta.com/evento/buenos-aires-inauguracion-continente-oscuro-feminidad-y-disidencia-en-el-surrealismo-argentino/
LOCATION:MACBA\, Av San Juan 328\, Buenos Aires\, 1141\, Argentina
ATTACH;FMTTYPE=image/jpeg:https://artepunta.com/wp-content/uploads/2026/03/IMG_2588.jpeg
END:VEVENT
BEGIN:VEVENT
DTSTART;TZID=America/Montevideo:20260321T140000
DTEND;TZID=America/Montevideo:20260321T180000
DTSTAMP:20260420T064348
CREATED:20260311T190830Z
LAST-MODIFIED:20260311T191553Z
UID:10003407-1774101600-1774116000@artepunta.com
SUMMARY:Montevideo / Intensivo Curatorial
DESCRIPTION:¡El Intensivo Curatorial en Montevideo comienza la próxima semana y concluirá con un simposio público organizado por el Museo Nacional de Artes Visuales (MNAV)! Los participantes presentarán las propuestas expositivas y de proyectos que han desarrollado a lo largo del programa de ocho días\, que se presenta en colaboración con ESTE ARTE y la Facultad de Artes de la Universidad de la República (UdelaR). ¡Conoce más sobre el Simposio y el Intensivo en nuestro sitio web! \nDurante el Intensivo\, los curadores emergentes están inmersos en un riguroso programa de seminarios\, presentaciones\, visitas al sitio y reuniones de asesoramiento individuales\, todo dirigido por un grupo de profesionales del arte regionales e internacionales\, y reciben apoyo en el proceso de desarrollar una idea para un proyecto en una propuesta completa. \nLos participantes discuten los conceptos\, la logística y los desafíos de organizar exposiciones\, programas públicos y otros modelos curatoriales\, y desarrollan sus habilidades entre un grupo de apoyo de pares y colegas. La edición de Montevideo está dirigida por la alumna del Intensivo Marina Reyes Franco (@the.visitoreconomy) con los profesores Ionit Behar (@ionitbehar)\, Keyna Eleison (@keynaeleison)\, Maya Juracán (@mayaxjuracan)\, Ana Laura López de la Torre y Victoria Noorthoorn @victorianoorthoorn. \n#ICIIntensivos #IntensivosMontevideo @esteartefair @laurabardier @mnav_uruguay
URL:https://artepunta.com/evento/montevideo-intensivo-curatorial/
LOCATION:MNAV\, Tomás Giribaldi 2283 esq. Julio Herrera y Reissig\, Montevideo\, Montevideo\, 11100\, Uruguay
ATTACH;FMTTYPE=image/jpeg:https://artepunta.com/wp-content/uploads/2026/03/curatorsintl_1773244876_3850579260592467203_145138056.jpg
ORGANIZER;CN="MNAV":MAILTO:mrozemblum@gmail.com
END:VEVENT
BEGIN:VEVENT
DTSTART;TZID=America/Montevideo:20260321T150000
DTEND;TZID=America/Montevideo:20260321T200000
DTSTAMP:20260420T064348
CREATED:20260309T225917Z
LAST-MODIFIED:20260309T225917Z
UID:10003395-1774105200-1774123200@artepunta.com
SUMMARY:Buenos Aires / Apertura de exhibición / Colección Helft
DESCRIPTION:W—galería Defensa 1369 Buenos Aires\nExh #08\nColección HELFT\nApertura [Opening] 21.03.2026_3—8 pm
URL:https://artepunta.com/evento/buenos-aires-apertura-de-exhibicion-coleccion-helft/
LOCATION:W-galería\, Defensa 1369\, Buenos Aires\, C1143\, Argentina
ATTACH;FMTTYPE=image/jpeg:https://artepunta.com/wp-content/uploads/2026/03/IMG_2633.jpeg
END:VEVENT
BEGIN:VEVENT
DTSTART;TZID=America/Montevideo:20260321T180000
DTEND;TZID=America/Montevideo:20260321T190000
DTSTAMP:20260420T064348
CREATED:20260310T153643Z
LAST-MODIFIED:20260310T154201Z
UID:10003396-1774116000-1774119600@artepunta.com
SUMMARY:Punta del Este / Visita guiada / Ana Segovia: The Office of Inter-American Affairs presents: Uruguay (DUPLICAR)
DESCRIPTION:VISITAS GUIADAS\nAna Segovia. The Office of Inter-American Affairs Presents: Uruguay\n📌Viernes y sábados\, 18:00.\nActividad gratuita. No requiere inscripción previa. \nTodas las semanas ofrecemos un programa de visitas mediadas a cargo de la curadora Camila Arbeláez. La visita propone una lectura de la práctica artística de Ana Segovia (Ciudad de México\, 1991) y del proceso de creación de esta exposición concebida especialmente para FCM\, que combina pintura\, instalación y performance. La muestra revisa críticamente cómo se construyen ciertos imaginarios en torno a la identidad nacional\, el género y la masculinidad. \nEl recorrido abarca las dos salas de la Fundación: en la Sala 1\, una serie de pinturas recientes de Ana Segovia\, y en la Sala 2\, una instalación que incluye la proyección audiovisual de la performance Gambola\, realizada para la apertura de la exposición. ¡Los esperamos! \n 
URL:https://artepunta.com/evento/punta-del-este-visita-guiada-ana-segovia-the-office-of-inter-american-affairs-presents-uruguay-duplicar/
LOCATION:Fundación Cervieri Monsuarez Jose Ignacio
ATTACH;FMTTYPE=image/jpeg:https://artepunta.com/wp-content/uploads/2026/01/fundacioncervierimonsuarez_1770137692_3824513310239294326_63851148235.jpg
END:VEVENT
BEGIN:VEVENT
DTSTART;TZID=America/Montevideo:20260325T143000
DTEND;TZID=America/Montevideo:20260325T160000
DTSTAMP:20260420T064348
CREATED:20260310T155958Z
LAST-MODIFIED:20260310T155958Z
UID:10003405-1774449000-1774454400@artepunta.com
SUMMARY:Visitas guiadas PREVIA INSCRIPCIÓN - "Dark Matters: Pinus" de Fons de Muynck
DESCRIPTION:Fons De Muynck presenta Dark Matters Pinus en Uruguay\, una instalación que transforma el bosque de La Juanita en una cámara oscura viva.\n \nEntra por un portal donde la luz susurra el camino y revela el latido antiguo del bosque. Un momento para detenerse y reconectar—donde el día resguarda a la noche dormida. Reserve su visita a continuación. Abierto cada miercoles y sabado de 16:00 a 17:30hs.  \n🌳 A partir del diálogo entre luz\, sombra y paisaje\, el artista belga invita a repensar la percepción y nuestra conexión con la naturaleza\, en una experiencia inmersiva que une arte contemporáneo y conciencia ambiental. \nSin luz artificial\, las imágenes del exterior se manifiestan de forma frágil e hipnótica\, revelando la naturaleza efímera del acto de ver. \n📍Posada Ayana\, La Juanita.\n🕓 Miércoles y sábados de 16:00 a 17:30. Visitas cada media hora\, previa inscripción\n🎟️ Entrada libre con reserva previa (cupos limitados por franja horaria). \nReservá tu lugar a través del link: https://www.signupgenius.com/go/10C0F45ACA623A3FAC70-61584334-dark?useFullSite=true#/
URL:https://artepunta.com/evento/visitas-guiadas-previa-inscripcion-dark-matters-pinus-de-fons-de-muynck-3/
LOCATION:La Juanita\, La Juanita José Ignacio\, Uruguay
ATTACH;FMTTYPE=image/jpeg:https://artepunta.com/wp-content/uploads/2026/02/Dark-Matters-Pinus-bosque-la-Juanita-scaled-1.jpeg
END:VEVENT
BEGIN:VEVENT
DTSTART;TZID=America/Montevideo:20260326T190000
DTEND;TZID=America/Montevideo:20260326T203000
DTSTAMP:20260420T064348
CREATED:20260303T163000Z
LAST-MODIFIED:20260309T230223Z
UID:10003383-1774551600-1774557000@artepunta.com
SUMMARY:Montevideo / 52° Premio Montevideo de artes visuales
DESCRIPTION:INAUGURACIÓN\n52° Premio Montevideo de Artes Visuales de la Intendencia de Montevideo \n🗓 Jueves 26 de marzo de 2026\n⏰ 19:00 horas\n📍Centro de Exposiciones Subte (Plaza Juan Pedro Fabini s/n) \n  \n \nEl Premio Montevideo de Artes Visuales de la Intendencia de Montevideo estimula la creación visual contemporánea\, promueve la visibilización de la producción artística nacional\, la circulación de lenguajes contemporáneos\, y el diálogo crítico entre arte\, sociedad y futuro. \nPara esta edición\, el jurado -integrado por Julissa Dura\, Vladimir Muhvich y Liliana Farber- seleccionó veintitrés obras de las más de 250 postuladas. Las obras seleccionadas dialogan con cuatro ejes conceptuales: Subjetividad y transformación; Inestabilidades del poder; Transitar lo incierto; y Sistemas\, estructuras y control. \nEn la inauguración\, la Intendencia de Montevideo entregará hasta cuatro premios\, siendo los tres primeros «Premio Adquisición». \nArtistas participantes:\nAgus Abellán\, Javier Abreu\, Federico Arnaud\, Fernando Foglino y Niklaus Strobel\, Michael Bahr\, Adela Casacuberta\, Casa de Balneario\, Aníbal Conde y Magdalena Leite\, Juan Pablo Conte\, Silvina Cortés Lasalle\, Luciana Damiani\, Florencia Dansilio y Agustina Rodríguez Tabacco\, Mayra Da Silva y Fernanda Piñeirúa\, Gonzalo Delgado\, Luisho Díaz\, Florencia Martínez Aysa\, Ian Matusevicius\, Diego Morera y Sebastián Lambert\, Mauricio Rodríguez Guridi\, Mariza Regia\, Natalia Torterolo\, Diego Velazco\, Fernando Velázquez\, Thomas Villalba Silva. \n¡Te esperamos!
URL:https://artepunta.com/evento/2535/
LOCATION:Centro de exposiciones Subte\, Plaza Juan Pedro Fabini s/n esq. Julio Herrera y Obes\, Montevideo\, Montevideo\, 11100\, Uruguay
ATTACH;FMTTYPE=image/jpeg:https://artepunta.com/wp-content/uploads/2026/03/subtemvd_1772465573_3844042301677355649_2034836850.jpg
END:VEVENT
BEGIN:VEVENT
DTSTART;TZID=America/Montevideo:20260326T190000
DTEND;TZID=America/Montevideo:20260326T210000
DTSTAMP:20260420T064348
CREATED:20260324T195224Z
LAST-MODIFIED:20260324T195224Z
UID:10003412-1774551600-1774558800@artepunta.com
SUMMARY:Punta del Este / Inauguración / Verbo - Gustavo Tabares
DESCRIPTION:
URL:https://artepunta.com/evento/punta-del-este-inauguracion-verbo-gustavo-tabares/
LOCATION:3 MUNDOS\, José María Aguilar y Costanera\, El Tesoro\, La Barra\, Uruguay
ATTACH;FMTTYPE=image/webp:https://artepunta.com/wp-content/uploads/2026/03/tabaresbritos_1774371482_3860030200440879135_4586675547.webp
END:VEVENT
BEGIN:VEVENT
DTSTART;TZID=America/Montevideo:20260327T143000
DTEND;TZID=America/Montevideo:20260327T160000
DTSTAMP:20260420T064348
CREATED:20260310T160012Z
LAST-MODIFIED:20260310T160012Z
UID:10003406-1774621800-1774627200@artepunta.com
SUMMARY:Visitas guiadas PREVIA INSCRIPCIÓN - "Dark Matters: Pinus" de Fons de Muynck
DESCRIPTION:Fons De Muynck presenta Dark Matters Pinus en Uruguay\, una instalación que transforma el bosque de La Juanita en una cámara oscura viva.\n \nEntra por un portal donde la luz susurra el camino y revela el latido antiguo del bosque. Un momento para detenerse y reconectar—donde el día resguarda a la noche dormida. Reserve su visita a continuación. Abierto cada miercoles y sabado de 16:00 a 17:30hs.  \n🌳 A partir del diálogo entre luz\, sombra y paisaje\, el artista belga invita a repensar la percepción y nuestra conexión con la naturaleza\, en una experiencia inmersiva que une arte contemporáneo y conciencia ambiental. \nSin luz artificial\, las imágenes del exterior se manifiestan de forma frágil e hipnótica\, revelando la naturaleza efímera del acto de ver. \n📍Posada Ayana\, La Juanita.\n🕓 Miércoles y sábados de 16:00 a 17:30. Visitas cada media hora\, previa inscripción\n🎟️ Entrada libre con reserva previa (cupos limitados por franja horaria). \nReservá tu lugar a través del link: https://www.signupgenius.com/go/10C0F45ACA623A3FAC70-61584334-dark?useFullSite=true#/
URL:https://artepunta.com/evento/visitas-guiadas-previa-inscripcion-dark-matters-pinus-de-fons-de-muynck-4/
LOCATION:La Juanita\, La Juanita José Ignacio\, Uruguay
ATTACH;FMTTYPE=image/jpeg:https://artepunta.com/wp-content/uploads/2026/02/Dark-Matters-Pinus-bosque-la-Juanita-scaled-1.jpeg
END:VEVENT
BEGIN:VEVENT
DTSTART;TZID=America/Montevideo:20260327T180000
DTEND;TZID=America/Montevideo:20260327T190000
DTSTAMP:20260420T064348
CREATED:20260310T154346Z
LAST-MODIFIED:20260324T195400Z
UID:10003398-1774634400-1774638000@artepunta.com
SUMMARY:Punta del Este / Visita guiada / Ana Segovia: The Office of Inter-American Affairs presents: Uruguay
DESCRIPTION:VISITAS GUIADAS\nAna Segovia. The Office of Inter-American Affairs Presents: Uruguay\n📌Viernes y sábados\, 18:00.\nActividad gratuita. No requiere inscripción previa. \nTodas las semanas ofrecemos un programa de visitas mediadas a cargo de la curadora Camila Arbeláez. La visita propone una lectura de la práctica artística de Ana Segovia (Ciudad de México\, 1991) y del proceso de creación de esta exposición concebida especialmente para FCM\, que combina pintura\, instalación y performance. La muestra revisa críticamente cómo se construyen ciertos imaginarios en torno a la identidad nacional\, el género y la masculinidad. \nEl recorrido abarca las dos salas de la Fundación: en la Sala 1\, una serie de pinturas recientes de Ana Segovia\, y en la Sala 2\, una instalación que incluye la proyección audiovisual de la performance Gambola\, realizada para la apertura de la exposición. ¡Los esperamos! \n 
URL:https://artepunta.com/evento/punta-del-este-visita-guiada-ana-segovia-the-office-of-inter-american-affairs-presents-uruguay-duplicar-duplicar/
LOCATION:Fundación Cervieri Monsuarez Jose Ignacio
ATTACH;FMTTYPE=image/jpeg:https://artepunta.com/wp-content/uploads/2026/01/fundacioncervierimonsuarez_1770137692_3824513310239294326_63851148235.jpg
END:VEVENT
BEGIN:VEVENT
DTSTART;TZID=America/Montevideo:20260327T200000
DTEND;TZID=America/Montevideo:20260327T203000
DTSTAMP:20260420T064348
CREATED:20260324T203000Z
LAST-MODIFIED:20260324T203058Z
UID:10003414-1774641600-1774643400@artepunta.com
SUMMARY:Punta del Este / Apertura / Angel Pajares / Navegaciones Expandido /
DESCRIPTION:  \n \nApertura de Navegaciones Expandido\, muestra instalativa del artista peruano Angel Pajares. Una experiencia que reúne cine expandido\, arte sonoro\, fotografía\, acuarela y escritura. \n📅 27 de marzo · 20:00 hs\n📍 Fundación Kavlin \nCon participación de Guillermo Zabaleta y Manuel Ulfe.\nEntrada libre. \n  
URL:https://artepunta.com/evento/punta-del-este-apertura-angel-pajares-navegaciones-expandido/
LOCATION:Fundacion Kavlin\, Calderon de la Barca y William Shakespeare\, Punta del Este\, Maldonado\, 20000\, Uruguay
ATTACH;FMTTYPE=image/jpeg:https://artepunta.com/wp-content/uploads/2026/03/kavlincentrocultural_1773753313_3854844636678684718_1955253906.jpg
END:VEVENT
BEGIN:VEVENT
DTSTART;TZID=America/Montevideo:20260327T200000
DTEND;TZID=America/Montevideo:20260327T213000
DTSTAMP:20260420T064348
CREATED:20260324T203441Z
LAST-MODIFIED:20260324T203446Z
UID:10003415-1774641600-1774647000@artepunta.com
SUMMARY:Punta del Este / Intervención / Travesías compartidas en un territorio imaginario / Miguel Moya
DESCRIPTION:Una travesía entre memoria\, territorio e imaginación. \nIntervención “Travesías compartida en un territorio imaginario” del artista venezolano Miguel Moya\, proyecto seleccionado en la Convocatoria Fundación Kavlin 2025. \n📅 Inaugura 27 de marzo — 20:00 hs\n📍 Fundación Kavlin \nEntrada libre.
URL:https://artepunta.com/evento/punta-del-este-intervencion-travesias-compartidas-en-un-territorio-imaginario-miguel-moya/
LOCATION:Fundacion Kavlin\, Calderon de la Barca y William Shakespeare\, Punta del Este\, Maldonado\, 20000\, Uruguay
ATTACH;FMTTYPE=image/jpeg:https://artepunta.com/wp-content/uploads/2026/03/kavlincentrocultural_1773863711_3855770723633892499_1955253906.jpg
END:VEVENT
BEGIN:VEVENT
DTSTART;TZID=America/Montevideo:20260328T170000
DTEND;TZID=America/Montevideo:20260328T190000
DTSTAMP:20260420T064348
CREATED:20260324T194750Z
LAST-MODIFIED:20260324T194750Z
UID:10003411-1774717200-1774724400@artepunta.com
SUMMARY:Buenos Aires: Inauguración Penumbra: Dia Art Foundation
DESCRIPTION:Por primera vez en Argentina\, un conjunto de obras fundamentales de algunos de los artistas más influyentes del arte contemporáneo se presenta en Buenos Aires \nAgnes Martin\nAndy Warhol\nFelix Gonzalez-Torres\nJames Turrell\nJohn Chamberlain\nRichard Serra\nRobert Irwin\nTehching Hsieh\nWalter De Maria \n📌“Penumbra: Dia Art Foundation” @diaartfoundation\n👉🏻Inauguración | 28 de marzo de 2026\, 17 h\nCuraduría de Humberto Moro | Asistente curatorial Ella den Elzen \n📍Av. Pedro de Mendoza 1929 \nAuspicia Tenaris – Ternium – Tecpetrol\n2 días
URL:https://artepunta.com/evento/buenos-aires-inauguracion-penumbra-dia-art-foundation/
LOCATION:Fundacion Proa\, Av. Pedro de Mendoza 1929\, Buenos Aires\, C1169AAD\, Argentina
ATTACH;FMTTYPE=image/jpeg:https://artepunta.com/wp-content/uploads/2026/03/fundacion_proa_1774197695_3858569411347692867_1577977529.jpg
END:VEVENT
BEGIN:VEVENT
DTSTART;TZID=America/Montevideo:20260328T180000
DTEND;TZID=America/Montevideo:20260328T190000
DTSTAMP:20260420T064348
CREATED:20260310T153948Z
LAST-MODIFIED:20260324T195434Z
UID:10003397-1774720800-1774724400@artepunta.com
SUMMARY:Punta del Este / Visita guiada / Ana Segovia: The Office of Inter-American Affairs presents: Uruguay
DESCRIPTION:VISITAS GUIADAS\nAna Segovia. The Office of Inter-American Affairs Presents: Uruguay\n📌Viernes y sábados\, 18:00.\nActividad gratuita. No requiere inscripción previa. \nTodas las semanas ofrecemos un programa de visitas mediadas a cargo de la curadora Camila Arbeláez. La visita propone una lectura de la práctica artística de Ana Segovia (Ciudad de México\, 1991) y del proceso de creación de esta exposición concebida especialmente para FCM\, que combina pintura\, instalación y performance. La muestra revisa críticamente cómo se construyen ciertos imaginarios en torno a la identidad nacional\, el género y la masculinidad. \nEl recorrido abarca las dos salas de la Fundación: en la Sala 1\, una serie de pinturas recientes de Ana Segovia\, y en la Sala 2\, una instalación que incluye la proyección audiovisual de la performance Gambola\, realizada para la apertura de la exposición. ¡Los esperamos! \n 
URL:https://artepunta.com/evento/punta-del-este-visita-guiada-ana-segovia-the-office-of-inter-american-affairs-presents-uruguay-duplicar-2/
LOCATION:Fundación Cervieri Monsuarez Jose Ignacio
ATTACH;FMTTYPE=image/jpeg:https://artepunta.com/wp-content/uploads/2026/01/fundacioncervierimonsuarez_1770137692_3824513310239294326_63851148235.jpg
END:VEVENT
BEGIN:VEVENT
DTSTART;TZID=America/Montevideo:20260328T190000
DTEND;TZID=America/Montevideo:20260328T220000
DTSTAMP:20260420T064348
CREATED:20260324T200317Z
LAST-MODIFIED:20260324T200456Z
UID:10003413-1774724400-1774735200@artepunta.com
SUMMARY:Punta del Este / Inauguración / Nacho González / el implante ontológico
DESCRIPTION:
URL:https://artepunta.com/evento/2718/
LOCATION:Galería Los Caracoles\, Los Bigua y Eugenio Sainz Martínez\, José Ignacio\, Uruguay
ATTACH;FMTTYPE=image/jpeg:https://artepunta.com/wp-content/uploads/2026/03/WhatsApp-Image-2026-03-23-at-14.12.58.jpeg
END:VEVENT
BEGIN:VEVENT
DTSTART;TZID=America/Montevideo:20260328T200000
DTEND;TZID=America/Montevideo:20260328T213000
DTSTAMP:20260420T064348
CREATED:20260324T204707Z
LAST-MODIFIED:20260324T205048Z
UID:10003416-1774728000-1774733400@artepunta.com
SUMMARY:Punta del Este / Vernisssage / Semana del Arte en La Barra
DESCRIPTION:
URL:https://artepunta.com/evento/punta-del-este-vernisssage-semana-del-arte-en-la-barra/
LOCATION:Lasarte Gallery\, Ocean Stread 2\, La Barra\, Uruguay
ATTACH;FMTTYPE=image/jpeg:https://artepunta.com/wp-content/uploads/2026/03/WhatsApp-Image-2026-03-24-at-17.24.22.jpeg
END:VEVENT
END:VCALENDAR