BEGIN:VCALENDAR
VERSION:2.0
PRODID:-//ArtePunta - ECPv6.15.17//NONSGML v1.0//EN
CALSCALE:GREGORIAN
METHOD:PUBLISH
X-ORIGINAL-URL:https://artepunta.com
X-WR-CALDESC:Eventos para ArtePunta
REFRESH-INTERVAL;VALUE=DURATION:PT1H
X-Robots-Tag:noindex
X-PUBLISHED-TTL:PT1H
BEGIN:VTIMEZONE
TZID:America/Montevideo
BEGIN:STANDARD
TZOFFSETFROM:-0300
TZOFFSETTO:-0300
TZNAME:-03
DTSTART:20250101T000000
END:STANDARD
END:VTIMEZONE
BEGIN:VEVENT
DTSTART;TZID=America/Montevideo:20260404T140000
DTEND;TZID=America/Montevideo:20260404T170000
DTSTAMP:20260420T014843
CREATED:20260401T021436Z
LAST-MODIFIED:20260401T021456Z
UID:10003424-1775311200-1775322000@artepunta.com
SUMMARY:PUEBLO GARZÓN-PUNTA DEL ESTE / FINISSAGE / MAGALÍ MILKIS / EL MONTE EN MI
DESCRIPTION:
URL:https://artepunta.com/evento/pueblo-garzon-punta-del-este-finissage-magali-milkis-el-monte-en-mi/
LOCATION:Black Gallery Pueblo Garzon\, Paso del Sauce\, 20401 Pueblo Garzón\, Pueblo Garzón
ATTACH;FMTTYPE=image/jpeg:https://artepunta.com/wp-content/uploads/2026/03/WhatsApp-Image-2026-03-31-at-22.23.08.jpeg
END:VEVENT
END:VCALENDAR